Package: EBcoexpress Version: 1.50.0 Command: /home/biocbuild/bbs-3.20-bioc/R/bin/R CMD build --keep-empty-dirs --no-resave-data --md5 EBcoexpress StartedAt: 2025-01-27 18:02:22 -0500 (Mon, 27 Jan 2025) EndedAt: 2025-01-27 18:02:42 -0500 (Mon, 27 Jan 2025) EllapsedTime: 20.0 seconds RetCode: 0 Status: OK PackageFile: EBcoexpress_1.50.0.tar.gz PackageFileSize: 3.037 MiB