Package: EBcoexpress Version: 1.50.0 Command: /Library/Frameworks/R.framework/Resources/bin/R CMD check --install=check:EBcoexpress.install-out.txt --library=/Library/Frameworks/R.framework/Resources/library --no-vignettes --timings EBcoexpress_1.50.0.tar.gz StartedAt: 2025-01-28 18:12:17 -0500 (Tue, 28 Jan 2025) EndedAt: 2025-01-28 18:12:49 -0500 (Tue, 28 Jan 2025) EllapsedTime: 32.8 seconds RetCode: 0 Status: OK CheckDir: EBcoexpress.Rcheck Warnings: 0