Package: EBcoexpress Version: 1.50.0 Command: /Library/Frameworks/R.framework/Resources/bin/R CMD build --keep-empty-dirs --no-resave-data EBcoexpress StartedAt: 2025-01-27 23:03:18 -0500 (Mon, 27 Jan 2025) EndedAt: 2025-01-27 23:04:01 -0500 (Mon, 27 Jan 2025) EllapsedTime: 42.9 seconds RetCode: 0 Status: OK PackageFile: EBcoexpress_1.50.0.tar.gz PackageFileSize: 2.665 MiB