Package: EBarrays Version: 2.70.0 Command: /home/biocbuild/R/R/bin/R CMD build --keep-empty-dirs --no-resave-data EBarrays StartedAt: 2025-03-31 23:13:15 -0000 (Mon, 31 Mar 2025) EndedAt: 2025-03-31 23:13:39 -0000 (Mon, 31 Mar 2025) EllapsedTime: 24.0 seconds RetCode: 0 Status: OK PackageFile: EBarrays_2.70.0.tar.gz PackageFileSize: 1.026 MiB