Package: EBarrays Version: 2.70.0 Command: /home/biocbuild/bbs-3.20-bioc/R/bin/R CMD INSTALL EBarrays StartedAt: 2025-03-31 15:09:10 -0400 (Mon, 31 Mar 2025) EndedAt: 2025-03-31 15:09:23 -0400 (Mon, 31 Mar 2025) EllapsedTime: 13.9 seconds RetCode: 0 Status: OK