Package: EBSeq Version: 2.4.1 Command: F:\biocbuild\bbs-3.20-bioc\R\bin\R.exe CMD INSTALL EBSeq StartedAt: 2025-03-31 16:27:12 -0400 (Mon, 31 Mar 2025) EndedAt: 2025-03-31 16:28:13 -0400 (Mon, 31 Mar 2025) EllapsedTime: 61.0 seconds RetCode: 0 Status: OK