Package: EBSeq Version: 2.4.0 Command: /home/biocbuild/bbs-3.20-bioc/R/bin/R CMD check --install=check:EBSeq.install-out.txt --library=/home/biocbuild/bbs-3.20-bioc/R/site-library --timings EBSeq_2.4.0.tar.gz StartedAt: 2025-02-03 22:03:10 -0500 (Mon, 03 Feb 2025) EndedAt: 2025-02-03 22:03:15 -0500 (Mon, 03 Feb 2025) EllapsedTime: 5.0 seconds RetCode: 1 Status: ERROR CheckDir: EBSeq.Rcheck Warnings: NA