Package: EBSeq Version: 2.4.0 Command: /Library/Frameworks/R.framework/Resources/bin/R CMD INSTALL EBSeq StartedAt: 2025-01-27 16:11:40 -0500 (Mon, 27 Jan 2025) EndedAt: 2025-01-27 16:11:50 -0500 (Mon, 27 Jan 2025) EllapsedTime: 9.9 seconds RetCode: 1 Status: ERROR