Package: EBSeq Version: 2.4.0 Command: /Library/Frameworks/R.framework/Resources/bin/R CMD check --install=check:EBSeq.install-out.txt --library=/Library/Frameworks/R.framework/Resources/library --no-vignettes --timings EBSeq_2.4.0.tar.gz StartedAt: 2025-01-28 03:21:35 -0500 (Tue, 28 Jan 2025) EndedAt: 2025-01-28 03:21:41 -0500 (Tue, 28 Jan 2025) EllapsedTime: 6.4 seconds RetCode: 1 Status: ERROR CheckDir: EBSeq.Rcheck Warnings: NA