Package: EBSeq Version: 2.4.0 Command: /home/biocbuild/R/R/bin/R CMD build --keep-empty-dirs --no-resave-data EBSeq StartedAt: 2024-11-20 00:27:27 -0000 (Wed, 20 Nov 2024) EndedAt: 2024-11-20 00:27:29 -0000 (Wed, 20 Nov 2024) EllapsedTime: 2.0 seconds RetCode: 0 Status: OK PackageFile: EBSeq_2.4.0.tar.gz PackageFileSize: 1.07 MiB