Package: EBSEA Version: 1.34.0 Command: /Library/Frameworks/R.framework/Resources/bin/R CMD INSTALL EBSEA StartedAt: 2025-01-27 15:34:09 -0500 (Mon, 27 Jan 2025) EndedAt: 2025-01-27 15:35:00 -0500 (Mon, 27 Jan 2025) EllapsedTime: 51.1 seconds RetCode: 0 Status: OK