Package: EBSEA Version: 1.34.0 Command: /Library/Frameworks/R.framework/Resources/bin/R CMD build --keep-empty-dirs --no-resave-data EBSEA StartedAt: 2025-01-27 18:44:18 -0500 (Mon, 27 Jan 2025) EndedAt: 2025-01-27 18:45:41 -0500 (Mon, 27 Jan 2025) EllapsedTime: 83.0 seconds RetCode: 0 Status: OK PackageFile: EBSEA_1.34.0.tar.gz PackageFileSize: 56.25 KiB