Package: EBSEA Version: 1.34.0 Command: rm -rf EBSEA.buildbin-libdir && mkdir EBSEA.buildbin-libdir && /Users/biocbuild/BBS/utils/build-universal.sh EBSEA_1.34.0.tar.gz /Library/Frameworks/R.framework/Resources/bin/R EBSEA.buildbin-libdir StartedAt: 2025-01-28 13:03:54 -0500 (Tue, 28 Jan 2025) EndedAt: 2025-01-28 13:05:08 -0500 (Tue, 28 Jan 2025) EllapsedTime: 74.1 seconds RetCode: 0 Status: OK PackageFile: EBSEA_1.34.0.tgz PackageFileSize: 76.08 KiB