Package: EBSEA Version: 1.34.0 Command: /Library/Frameworks/R.framework/Resources/bin/R CMD INSTALL EBSEA StartedAt: 2025-03-31 15:54:31 -0400 (Mon, 31 Mar 2025) EndedAt: 2025-03-31 15:54:57 -0400 (Mon, 31 Mar 2025) EllapsedTime: 26.4 seconds RetCode: 0 Status: OK