Package: EBSEA Version: 1.34.0 Command: /Library/Frameworks/R.framework/Resources/bin/R CMD build --keep-empty-dirs --no-resave-data EBSEA StartedAt: 2025-03-31 22:55:50 -0400 (Mon, 31 Mar 2025) EndedAt: 2025-03-31 22:56:34 -0400 (Mon, 31 Mar 2025) EllapsedTime: 44.8 seconds RetCode: 0 Status: OK PackageFile: EBSEA_1.34.0.tar.gz PackageFileSize: 56.17 KiB