Package: EBImage Version: 4.48.0 Command: F:\biocbuild\bbs-3.20-bioc\R\bin\R.exe CMD INSTALL EBImage StartedAt: 2025-01-30 15:48:40 -0500 (Thu, 30 Jan 2025) EndedAt: 2025-01-30 15:49:29 -0500 (Thu, 30 Jan 2025) EllapsedTime: 48.9 seconds RetCode: 0 Status: OK