Package: EBImage Version: 4.48.0 Command: F:\biocbuild\bbs-3.20-bioc\R\bin\R.exe CMD check --no-multiarch --install=check:EBImage.install-out.txt --library=F:\biocbuild\bbs-3.20-bioc\R\library --no-vignettes --timings EBImage_4.48.0.tar.gz StartedAt: 2025-04-01 01:11:06 -0400 (Tue, 01 Apr 2025) EndedAt: 2025-04-01 01:12:48 -0400 (Tue, 01 Apr 2025) EllapsedTime: 101.8 seconds RetCode: 0 Status: OK CheckDir: EBImage.Rcheck Warnings: 0