Package: EBImage Version: 4.48.0 Command: /Library/Frameworks/R.framework/Resources/bin/R CMD build --keep-empty-dirs --no-resave-data EBImage StartedAt: 2025-03-31 22:55:45 -0400 (Mon, 31 Mar 2025) EndedAt: 2025-03-31 22:56:30 -0400 (Mon, 31 Mar 2025) EllapsedTime: 44.8 seconds RetCode: 0 Status: OK PackageFile: EBImage_4.48.0.tar.gz PackageFileSize: 6.296 MiB