Package: DynDoc Version: 1.84.0 Command: /home/biocbuild/R/R/bin/R CMD INSTALL DynDoc StartedAt: 2025-02-03 20:21:25 -0000 (Mon, 03 Feb 2025) EndedAt: 2025-02-03 20:21:40 -0000 (Mon, 03 Feb 2025) EllapsedTime: 15.0 seconds RetCode: 0 Status: OK