Package: DynDoc Version: 1.84.0 Command: /Library/Frameworks/R.framework/Resources/bin/R CMD INSTALL DynDoc StartedAt: 2025-03-31 15:03:54 -0400 (Mon, 31 Mar 2025) EndedAt: 2025-03-31 15:04:10 -0400 (Mon, 31 Mar 2025) EllapsedTime: 15.7 seconds RetCode: 0 Status: OK