Package: DynDoc Version: 1.84.0 Command: /Library/Frameworks/R.framework/Resources/bin/R CMD INSTALL DynDoc StartedAt: 2025-02-03 15:09:22 -0500 (Mon, 03 Feb 2025) EndedAt: 2025-02-03 15:09:25 -0500 (Mon, 03 Feb 2025) EllapsedTime: 3.3 seconds RetCode: 0 Status: OK