Package: DuplexDiscovereR Version: 1.0.0 Command: /home/biocbuild/R/R/bin/R CMD build --keep-empty-dirs --no-resave-data DuplexDiscovereR StartedAt: 2025-01-30 23:18:18 -0000 (Thu, 30 Jan 2025) EndedAt: 2025-01-30 23:20:43 -0000 (Thu, 30 Jan 2025) EllapsedTime: 145.1 seconds RetCode: 0 Status: OK PackageFile: DuplexDiscovereR_1.0.0.tar.gz PackageFileSize: 1.013 MiB