Package: DuplexDiscovereR Version: 1.0.0 Command: chmod a+r DuplexDiscovereR -R && F:\biocbuild\bbs-3.20-bioc\R\bin\R.exe CMD build --keep-empty-dirs --no-resave-data DuplexDiscovereR StartedAt: 2025-03-31 18:37:05 -0400 (Mon, 31 Mar 2025) EndedAt: 2025-03-31 18:39:47 -0400 (Mon, 31 Mar 2025) EllapsedTime: 162.5 seconds RetCode: 0 Status: OK PackageFile: DuplexDiscovereR_1.0.0.tar.gz PackageFileSize: 968.8 KiB