Package: DrugVsDisease Version: 2.48.0 Command: /home/biocbuild/R/R/bin/R CMD INSTALL DrugVsDisease StartedAt: 2025-01-27 21:31:52 -0000 (Mon, 27 Jan 2025) EndedAt: 2025-01-27 21:32:35 -0000 (Mon, 27 Jan 2025) EllapsedTime: 43.0 seconds RetCode: 0 Status: OK