Package: DrugVsDisease Version: 2.48.0 Command: /home/biocbuild/R/R/bin/R CMD check --install=check:DrugVsDisease.install-out.txt --library=/home/biocbuild/R/R/site-library --no-vignettes --timings DrugVsDisease_2.48.0.tar.gz StartedAt: 2025-01-28 06:44:25 -0000 (Tue, 28 Jan 2025) EndedAt: 2025-01-28 06:47:56 -0000 (Tue, 28 Jan 2025) EllapsedTime: 211.4 seconds RetCode: 0 Status: OK CheckDir: DrugVsDisease.Rcheck Warnings: 0