Package: DrugVsDisease Version: 2.48.0 Command: /home/biocbuild/R/R/bin/R CMD build --keep-empty-dirs --no-resave-data DrugVsDisease StartedAt: 2025-03-31 23:11:47 -0000 (Mon, 31 Mar 2025) EndedAt: 2025-03-31 23:12:32 -0000 (Mon, 31 Mar 2025) EllapsedTime: 45.0 seconds RetCode: 0 Status: OK PackageFile: DrugVsDisease_2.48.0.tar.gz PackageFileSize: 1.824 MiB