Package: DrugVsDisease Version: 2.48.0 Command: rm -rf DrugVsDisease.buildbin-libdir && mkdir DrugVsDisease.buildbin-libdir && F:\biocbuild\bbs-3.20-bioc\R\bin\R.exe CMD INSTALL --build --library=DrugVsDisease.buildbin-libdir DrugVsDisease_2.48.0.tar.gz StartedAt: 2025-04-01 08:07:11 -0400 (Tue, 01 Apr 2025) EndedAt: 2025-04-01 08:08:00 -0400 (Tue, 01 Apr 2025) EllapsedTime: 49.5 seconds RetCode: 0 Status: OK PackageFile: DrugVsDisease_2.48.0.zip PackageFileSize: 2.609 MiB