Package: DrugVsDisease Version: 2.47.0 Command: C:\Users\biocbuild\bbs-3.20-bioc\R\bin\R.exe CMD INSTALL DrugVsDisease StartedAt: 2024-07-15 15:41:50 -0400 (Mon, 15 Jul 2024) EndedAt: 2024-07-15 15:42:36 -0400 (Mon, 15 Jul 2024) EllapsedTime: 45.8 seconds RetCode: 0 Status: OK