Package: DrugVsDisease Version: 2.48.0 Command: /Library/Frameworks/R.framework/Resources/bin/R CMD INSTALL DrugVsDisease StartedAt: 2025-03-31 16:30:14 -0400 (Mon, 31 Mar 2025) EndedAt: 2025-03-31 16:30:15 -0400 (Mon, 31 Mar 2025) EllapsedTime: 0.6 seconds RetCode: 1 Status: ERROR