Package: DrugVsDisease Version: 2.48.0 Command: /Library/Frameworks/R.framework/Resources/bin/R CMD check --install=check:DrugVsDisease.install-out.txt --library=/Library/Frameworks/R.framework/Resources/library --no-vignettes --timings DrugVsDisease_2.48.0.tar.gz StartedAt: 2025-01-28 18:01:12 -0500 (Tue, 28 Jan 2025) EndedAt: 2025-01-28 18:04:21 -0500 (Tue, 28 Jan 2025) EllapsedTime: 188.2 seconds RetCode: 1 Status: ERROR CheckDir: DrugVsDisease.Rcheck Warnings: NA