Package: DrugVsDisease Version: 2.48.0 Command: rm -rf DrugVsDisease.buildbin-libdir && mkdir DrugVsDisease.buildbin-libdir && /Users/biocbuild/BBS/utils/build-universal.sh DrugVsDisease_2.48.0.tar.gz /Library/Frameworks/R.framework/Resources/bin/R DrugVsDisease.buildbin-libdir StartedAt: 2025-01-29 14:28:19 -0500 (Wed, 29 Jan 2025) EndedAt: 2025-01-29 14:29:05 -0500 (Wed, 29 Jan 2025) EllapsedTime: 45.8 seconds RetCode: 0 Status: OK PackageFile: DrugVsDisease_2.48.0.tgz PackageFileSize: 2.731 MiB