Package: DropletUtils Version: 1.26.0 Command: /home/biocbuild/R/R/bin/R CMD INSTALL DropletUtils StartedAt: 2025-01-30 20:26:47 -0000 (Thu, 30 Jan 2025) EndedAt: 2025-01-30 20:28:15 -0000 (Thu, 30 Jan 2025) EllapsedTime: 87.9 seconds RetCode: 0 Status: OK