Package: DropletUtils Version: 1.26.0 Command: chmod a+r DropletUtils -R && F:\biocbuild\bbs-3.20-bioc\R\bin\R.exe CMD build --keep-empty-dirs --no-resave-data DropletUtils StartedAt: 2025-01-30 18:32:29 -0500 (Thu, 30 Jan 2025) EndedAt: 2025-01-30 18:34:27 -0500 (Thu, 30 Jan 2025) EllapsedTime: 118.7 seconds RetCode: 0 Status: OK PackageFile: DropletUtils_1.26.0.tar.gz PackageFileSize: 390.7 KiB