Package: DropletUtils Version: 1.26.0 Command: /home/biocbuild/bbs-3.20-bioc/R/bin/R CMD INSTALL DropletUtils StartedAt: 2025-01-30 15:25:02 -0500 (Thu, 30 Jan 2025) EndedAt: 2025-01-30 15:26:05 -0500 (Thu, 30 Jan 2025) EllapsedTime: 63.2 seconds RetCode: 0 Status: OK