Package: DropletUtils Version: 1.26.0 Command: /Library/Frameworks/R.framework/Resources/bin/R CMD INSTALL DropletUtils StartedAt: 2025-01-27 16:31:54 -0500 (Mon, 27 Jan 2025) EndedAt: 2025-01-27 16:33:00 -0500 (Mon, 27 Jan 2025) EllapsedTime: 65.6 seconds RetCode: 0 Status: OK