Package: DropletUtils Version: 1.26.0 Command: rm -rf DropletUtils.buildbin-libdir && mkdir DropletUtils.buildbin-libdir && /Users/biocbuild/BBS/utils/build-universal.sh DropletUtils_1.26.0.tar.gz /Library/Frameworks/R.framework/Resources/bin/R DropletUtils.buildbin-libdir StartedAt: 2025-01-29 14:28:16 -0500 (Wed, 29 Jan 2025) EndedAt: 2025-01-29 14:29:28 -0500 (Wed, 29 Jan 2025) EllapsedTime: 71.8 seconds RetCode: 0 Status: OK PackageFile: DropletUtils_1.26.0.tgz PackageFileSize: 2.01 MiB