Package: DriverNet Version: 1.46.0 Command: /home/biocbuild/R/R/bin/R CMD check --install=check:DriverNet.install-out.txt --library=/home/biocbuild/R/R/site-library --no-vignettes --timings DriverNet_1.46.0.tar.gz StartedAt: 2025-04-01 06:03:37 -0000 (Tue, 01 Apr 2025) EndedAt: 2025-04-01 06:04:54 -0000 (Tue, 01 Apr 2025) EllapsedTime: 77.1 seconds RetCode: 0 Status: OK CheckDir: DriverNet.Rcheck Warnings: 0