Package: DriverNet Version: 1.46.0 Command: chmod a+r DriverNet -R && F:\biocbuild\bbs-3.20-bioc\R\bin\R.exe CMD build --keep-empty-dirs --no-resave-data DriverNet StartedAt: 2025-03-31 18:36:03 -0400 (Mon, 31 Mar 2025) EndedAt: 2025-03-31 18:36:56 -0400 (Mon, 31 Mar 2025) EllapsedTime: 52.5 seconds RetCode: 0 Status: OK PackageFile: DriverNet_1.46.0.tar.gz PackageFileSize: 1.117 MiB