Package: Doscheda Version: 1.28.0 Command: /home/biocbuild/bbs-3.20-bioc/R/bin/R CMD INSTALL Doscheda StartedAt: 2025-03-31 15:51:17 -0400 (Mon, 31 Mar 2025) EndedAt: 2025-03-31 15:51:30 -0400 (Mon, 31 Mar 2025) EllapsedTime: 13.0 seconds RetCode: 0 Status: OK