Package: DominoEffect Version: 1.26.0 Command: /home/biocbuild/R/R/bin/R CMD build --keep-empty-dirs --no-resave-data DominoEffect StartedAt: 2025-01-30 23:15:27 -0000 (Thu, 30 Jan 2025) EndedAt: 2025-01-30 23:17:06 -0000 (Thu, 30 Jan 2025) EllapsedTime: 99.0 seconds RetCode: 0 Status: OK PackageFile: DominoEffect_1.26.0.tar.gz PackageFileSize: 474.7 KiB