Package: DominoEffect Version: 1.26.0 Command: F:\biocbuild\bbs-3.20-bioc\R\bin\R.exe CMD INSTALL DominoEffect StartedAt: 2025-01-30 16:16:19 -0500 (Thu, 30 Jan 2025) EndedAt: 2025-01-30 16:17:08 -0500 (Thu, 30 Jan 2025) EllapsedTime: 48.4 seconds RetCode: 0 Status: OK