Package: DominoEffect Version: 1.26.0 Command: chmod a+r DominoEffect -R && F:\biocbuild\bbs-3.20-bioc\R\bin\R.exe CMD build --keep-empty-dirs --no-resave-data DominoEffect StartedAt: 2025-01-30 18:30:46 -0500 (Thu, 30 Jan 2025) EndedAt: 2025-01-30 18:32:18 -0500 (Thu, 30 Jan 2025) EllapsedTime: 92.4 seconds RetCode: 0 Status: OK PackageFile: DominoEffect_1.26.0.tar.gz PackageFileSize: 473.4 KiB