Package: DominoEffect Version: 1.26.0 Command: /home/biocbuild/bbs-3.20-bioc/R/bin/R CMD check --install=check:DominoEffect.install-out.txt --library=/home/biocbuild/bbs-3.20-bioc/R/site-library --timings DominoEffect_1.26.0.tar.gz StartedAt: 2025-03-31 21:44:25 -0400 (Mon, 31 Mar 2025) EndedAt: 2025-03-31 21:51:06 -0400 (Mon, 31 Mar 2025) EllapsedTime: 400.4 seconds RetCode: 0 Status: OK CheckDir: DominoEffect.Rcheck Warnings: 0