Package: DirichletMultinomial Version: 1.48.0 Command: /home/biocbuild/bbs-3.20-bioc/R/bin/R CMD check --install=check:DirichletMultinomial.install-out.txt --library=/home/biocbuild/bbs-3.20-bioc/R/site-library --timings DirichletMultinomial_1.48.0.tar.gz StartedAt: 2025-03-31 21:40:14 -0400 (Mon, 31 Mar 2025) EndedAt: 2025-03-31 21:41:09 -0400 (Mon, 31 Mar 2025) EllapsedTime: 55.0 seconds RetCode: 0 Status: WARNINGS CheckDir: DirichletMultinomial.Rcheck Warnings: 1