Package: DirichletMultinomial Version: 1.48.0 Command: /Library/Frameworks/R.framework/Resources/bin/R CMD INSTALL DirichletMultinomial StartedAt: 2025-01-27 15:14:39 -0500 (Mon, 27 Jan 2025) EndedAt: 2025-01-27 15:15:07 -0500 (Mon, 27 Jan 2025) EllapsedTime: 28.0 seconds RetCode: 0 Status: OK