Package: DirichletMultinomial Version: 1.48.0 Command: /Library/Frameworks/R.framework/Resources/bin/R CMD INSTALL DirichletMultinomial StartedAt: 2025-03-31 15:11:09 -0400 (Mon, 31 Mar 2025) EndedAt: 2025-03-31 15:11:20 -0400 (Mon, 31 Mar 2025) EllapsedTime: 11.3 seconds RetCode: 0 Status: OK