Package: DirichletMultinomial Version: 1.48.0 Command: /Library/Frameworks/R.framework/Resources/bin/R CMD build --keep-empty-dirs --no-resave-data DirichletMultinomial StartedAt: 2025-03-31 22:37:07 -0400 (Mon, 31 Mar 2025) EndedAt: 2025-03-31 22:37:30 -0400 (Mon, 31 Mar 2025) EllapsedTime: 23.6 seconds RetCode: 0 Status: OK PackageFile: DirichletMultinomial_1.48.0.tar.gz PackageFileSize: 1.06 MiB