Package: Dino Version: 1.12.0 Command: /home/biocbuild/R/R/bin/R CMD INSTALL Dino StartedAt: 2025-02-10 21:03:23 -0000 (Mon, 10 Feb 2025) EndedAt: 2025-02-10 21:04:13 -0000 (Mon, 10 Feb 2025) EllapsedTime: 50.2 seconds RetCode: 0 Status: OK