Package: Dino Version: 1.12.0 Command: /home/biocbuild/R/R/bin/R CMD check --install=check:Dino.install-out.txt --library=/home/biocbuild/R/R/site-library --no-vignettes --timings Dino_1.12.0.tar.gz StartedAt: 2025-02-11 05:41:29 -0000 (Tue, 11 Feb 2025) EndedAt: 2025-02-11 05:49:02 -0000 (Tue, 11 Feb 2025) EllapsedTime: 453.9 seconds RetCode: 0 Status: OK CheckDir: Dino.Rcheck Warnings: 0