Package: Dino Version: 1.12.0 Command: /home/biocbuild/R/R/bin/R CMD build --keep-empty-dirs --no-resave-data Dino StartedAt: 2025-02-10 23:01:32 -0000 (Mon, 10 Feb 2025) EndedAt: 2025-02-10 23:03:40 -0000 (Mon, 10 Feb 2025) EllapsedTime: 128.0 seconds RetCode: 0 Status: OK PackageFile: Dino_1.12.0.tar.gz PackageFileSize: 923.4 KiB